BEGIN:VCALENDAR
VERSION:2.0
PRODID:iCalendar-Evo
X-WR-TIMEZONE:US/Eastern
BEGIN:VEVENT
DTSTAMP:20260423THI4246Z
URL:https://www.jeffersoncountyny.gov/events/98618/
DTSTART;TZID=US/Eastern:20260319T170000
DTEND;TZID=US/Eastern:20260319T190000
SUMMARY:Spring Rabies Vaccination Clinic
DESCRIPTION:Dogs, cats and domesticated ferrets must be at least 3 months of age to receive their first rabies vaccination and must have the initial shot no later than 4 months after birth according to New York State Health Law. Dogs must be leashed, cats and ferrets must be contained in a carrier, etc.  If available, please bring a copy of your pet's last certificate of vaccination. These clinics are no-cost; however, we ask a $10 donation per pet to help defray the costs of these clinics. For more information: https://www.jeffersoncountyny.gov/rabies-control 
LOCATION:Dog Control at 21897 County Route 190, Watertown, New York 13601
GEO:44.00004633258636;-75.93403657862189
UID:65d37d1e-88df-4dbc-a627-5506830845ac20260319T210000@www.jeffersoncountyny.gov
END:VEVENT
END:VCALENDAR