BEGIN:VCALENDAR
VERSION:2.0
PRODID:iCalendar-Evo
X-WR-TIMEZONE:US/Eastern
BEGIN:VEVENT
DTSTAMP:20260422THI3024Z
URL:https://www.jeffersoncountyny.gov/events/99165/
DTSTART;TZID=US/Eastern:20260723T090000
DTEND;TZID=US/Eastern:20260723T150000
SUMMARY:Upstate Mobile Mammography Clinic
DESCRIPTION:The Upstate University Hospital Mobile Mammography van will be at Jefferson County Public Health Service on Thursday, July 23, 2026. Screenings will be available between 9:00am and 3:00pm. To schedule an appointment for a mammogram with the van, call 315-464-2588. Appointments can also be requested online at: www.upstate.edu/noexcuses.  To be eligible for a mammogram on the van, woman should be 40 years and older, not have had a mammogram in the past 12 months, and show no signs or symptoms of breast cancer. Insured and uninsured are welcome.  
LOCATION:Public Health Facility at 531 Meade st., Watertown , New York 13601
GEO:43.98527029998616;-75.91931250004122
UID:d07a5de6-9907-4efe-9b61-37102656c49920260723T130000@www.jeffersoncountyny.gov
END:VEVENT
END:VCALENDAR