BEGIN:VCALENDAR
VERSION:2.0
PRODID:iCalendar-Evo
X-WR-TIMEZONE:US/Eastern
BEGIN:VEVENT
DTSTAMP:20260422THI2429Z
URL:https://www.jeffersoncountyny.gov/events/99380/
DTSTART;TZID=US/Eastern:20260910T083000
DTEND;TZID=US/Eastern:20260913T163000
SUMMARY:EPA Lead Abatement Supervisor Training (Day 3)
DESCRIPTION:The Jefferson County Public Health Service is hosting an Environmental Protection Agency (EPA) Lead Abatement Supervisor Training provided by Eco-Testing Services, LLC.  This is a 4-day course (8:30am-4:30pm Tuesday through Friday) that teaches participants how to manage and oversee lead-based paint abatement projects. This training will be held in a conference room at Salmon Run Mall. To be eligible for this certification, participants must have: 1 year experience as a certified abatement worker OR at least 2 years experience in a related field (lead, asbestos, environmental remediation or construction). This training is offered at no-cost to participants. We have a limited number of spaces available. Please call 315-786-3730 to register for this training. The New York State Lead Rental Registry Program addresses the leading cause of childhood lead poisonings by requiring landlords to remove sources of lead exposure in pre-1980 rental units in 25 communities of concern identified in New York State Public Health Law (PHL) § 1377. Watertown has been identified as one of these communities of concern. https://www.health.ny.gov/environmental/lead/lead_rental_registry/ For more information on EPA Lead-Based Paint Abatement and Evaluation Program, please visit their website: https://www.epa.gov/lead/lead-based-paint-abatement-and-evaluation-program-overview 
UID:5d1f4b05-10fd-4eaf-9386-f0b9db8e764620260910T123000@www.jeffersoncountyny.gov
END:VEVENT
END:VCALENDAR