BEGIN:VCALENDAR
VERSION:2.0
PRODID:iCalendar-Evo
X-WR-TIMEZONE:US/Eastern
BEGIN:VEVENT
DTSTAMP:20260422THI2303Z
URL:https://www.jeffersoncountyny.gov/events/99383/
DTSTART;TZID=US/Eastern:20261023T083000
DTEND;TZID=US/Eastern:20261024T163000
SUMMARY:EPA Lead Abatement Worker Training (Day 2)
DESCRIPTION:The Jefferson County Public Health Service is hosting an Environmental Protection Agency (EPA) Lead Abatement Worker Training provided by Eco-Testing Services, LLC.  This is a 2-day course (8:30am-4:30pm Thursday through Friday). Abatement workers may conduct abatement activities under the direction of certified abatement supervisors. This training is offered at no-cost to participants. We have a limited number of spaces available. Please call 315-786-3730 to register for this training. This training will be held at the Jefferson County Public Health Service conference room. The New York State Lead Rental Registry Program addresses the leading cause of childhood lead poisonings by requiring landlords to remove sources of lead exposure in pre-1980 rental units in 25 communities of concern identified in New York State Public Health Law (PHL) § 1377. Watertown has been identified as one of these communities of concern. https://www.health.ny.gov/environmental/lead/lead_rental_registry/ For more information on EPA Lead-Based Paint Abatement and Evaluation Program, please visit their website: https://www.epa.gov/lead/lead-based-paint-abatement-and-evaluation-program-overview 
LOCATION:Public Health Facility at 531 Meade st., Watertown , New York 13601
GEO:43.98527029998616;-75.91931250004122
UID:4d675299-12ca-4ac1-88fd-5b8965465b0f20261023T123000@www.jeffersoncountyny.gov
END:VEVENT
END:VCALENDAR